BEGIN:VCALENDAR
VERSION:2.0
PRODID:-//ChamberMaster//Event Calendar 2.0//EN
METHOD:PUBLISH
X-PUBLISHED-TTL:P3D
REFRESH-INTERVAL:P3D
CALSCALE:GREGORIAN
BEGIN:VEVENT
DTSTART:20100418T010000Z
DTEND:20100417T050000Z
X-MICROSOFT-CDO-ALLDAYEVENT:FALSE
SUMMARY:Mariachi Escorpion and Luna Azteca
DESCRIPTION:An evening of mariachi music by UTB/TSC's Mariachi Escorpion and all -female mariachi group\, Luna Azteca.\n\nTickets are $7 general admission and can be purchased by calling 956-882-8943 or 956-882-8247.
X-ALT-DESC;FMTTYPE=text/html:An evening of mariachi music by UTB/TSC's Mariachi Escorpion and all -female mariachi group\, Luna Azteca.\n\nTickets are $7 general admission and can be purchased by calling 956-882-8943 or 956-882-8247.\n\n
LOCATION:UTB/TSC-Arts Center
UID:e.1828.2469
SEQUENCE:3
DTSTAMP:20260422T080859Z
URL:https://business.harlingen.com/events/details/mariachi-escorpion-and-luna-azteca-04-17-2010-2469
END:VEVENT

END:VCALENDAR
