BEGIN:VCALENDAR
VERSION:2.0
PRODID:-//ChamberMaster//Event Calendar 2.0//EN
METHOD:PUBLISH
X-PUBLISHED-TTL:P3D
REFRESH-INTERVAL:P3D
CALSCALE:GREGORIAN
BEGIN:VEVENT
DTSTART:20111123T010000Z
DTEND:20111123T010000Z
X-MICROSOFT-CDO-ALLDAYEVENT:FALSE
SUMMARY:Mariachi Escorpion Concert
DESCRIPTION:The award winning UTB/TSC Mariachi Escorpión will present a concert filled with great mariachi music.\n\nPre-sale tickets are $7 and $10 at the door.\n\nThe funds raised from the concert will go for scholarships for students in the mariachi ensemble.
X-ALT-DESC;FMTTYPE=text/html:The award winning UTB/TSC Mariachi Escorpión will present a concert filled with great mariachi music.\n\nPre-sale tickets are $7 and $10 at the door.\n\nThe funds raised from the concert will go for scholarships for students in the mariachi ensemble.\n\n
LOCATION:UTB/TSC\, The Arts Center
UID:e.1828.3263
SEQUENCE:3
DTSTAMP:20260421T003202Z
URL:https://business.harlingen.com/events/details/mariachi-escorpion-concert-11-22-2011-3263
END:VEVENT

END:VCALENDAR
