BEGIN:VCALENDAR
VERSION:2.0
PRODID:-//ChamberMaster//Event Calendar 2.0//EN
METHOD:PUBLISH
X-PUBLISHED-TTL:P3D
REFRESH-INTERVAL:P3D
CALSCALE:GREGORIAN
BEGIN:VEVENT
DTSTART;VALUE=DATE:20120226
DTEND;VALUE=DATE:20120227
TRANSP:TRANSPARENT
X-MICROSOFT-CDO-ALLDAYEVENT:TRUE
SUMMARY:Mariachi Vargas de Tecalitlán at The Arts Center
DESCRIPTION:A second performance of the legendary Mariachi Vargas de Tecalitlán – widely hailed as ''El Mejor Mariachi del Mundo'' – has been added to the Signature Series at The Arts Center at The University of Texas at Brownsville and Texas Southmost College.\n\nMariachi Vargas is scheduled for two performances at 3 p.m. and 6 p.m. Sunday\, Feb. 26. Tickets for the two concerts may be purchased online at utb.edu/artscenter or by calling 956-UTB-TKTS\, 956-882-8587.
X-ALT-DESC;FMTTYPE=text/html:A second performance of the legendary Mariachi Vargas de Tecalitlán – widely hailed as ''El Mejor Mariachi del Mundo'' – has been added to the Signature Series at The Arts Center at The University of Texas at Brownsville and Texas Southmost College.\n\nMariachi Vargas is scheduled for two performances at 3 p.m. and 6 p.m. Sunday\, Feb. 26. Tickets for the two concerts may be purchased online at utb.edu/artscenter or by calling 956-UTB-TKTS\, 956-882-8587.
LOCATION:
UID:e.1828.3413
SEQUENCE:3
DTSTAMP:20260420T212632Z
URL:https://business.harlingen.com/events/details/mariachi-vargas-de-tecalitl&#225;n-at-the-arts-center-02-26-2012-3413
END:VEVENT

END:VCALENDAR
