BEGIN:VCALENDAR
VERSION:2.0
PRODID:-//ChamberMaster//Event Calendar 2.0//EN
METHOD:PUBLISH
X-PUBLISHED-TTL:P3D
REFRESH-INTERVAL:P3D
CALSCALE:GREGORIAN
BEGIN:VEVENT
DTSTART:20110730T140000Z
DTEND:20110730T140000Z
X-MICROSOFT-CDO-ALLDAYEVENT:FALSE
SUMMARY:Marine Military Academy 2011 Graduates of Summer & ESL Camp PARADE
DESCRIPTION:Marine Military Academy proudly presents\n2011 Graduates of MMA Summer & ESL Camp PARADE \nMMA Parade Grounds \nThe public is invited. Bleacher seating is limited and lawn chairs are welcome!
X-ALT-DESC;FMTTYPE=text/html:Marine Military Academy proudly presents\n2011 Graduates of MMA Summer & ESL Camp PARADE \nMMA Parade Grounds \nThe public is invited. Bleacher seating is limited and lawn chairs are welcome!\n
LOCATION:MMA Parade Grounds.
UID:e.1828.3124
SEQUENCE:3
DTSTAMP:20260421T064711Z
URL:https://business.harlingen.com/events/details/marine-military-academy-2011-graduates-of-summer-esl-camp-parade-07-30-2011-3124
END:VEVENT

END:VCALENDAR
