BEGIN:VCALENDAR
VERSION:2.0
PRODID:-//ChamberMaster//Event Calendar 2.0//EN
METHOD:PUBLISH
X-PUBLISHED-TTL:P3D
REFRESH-INTERVAL:P3D
CALSCALE:GREGORIAN
BEGIN:VEVENT
DTSTART:20100529T160000Z
DTEND:20100529T160000Z
X-MICROSOFT-CDO-ALLDAYEVENT:FALSE
SUMMARY:Marine Military Academy 44th Graduation Ceremony
DESCRIPTION:The Marine Military Academy (MMA) will host the Academy's 44th Graduation Commencement on Saturday\, May 29th\, at 11 a.m. in the school's Phil Yeckel Memorial Auditorium featuring guest speaker William E. McHenry EdD\, Director of Training and Education Command - U.S. Marine Corps Junior Reserve Officer's Training Corps.  During Commencement\, there will also be addresses by Valedictorian Cadet Michael Robert Miller of Arlington\, Texas and Salutatorian Cadet Dylan Reece Joslin of Forney\, Texas. Commencement will conclude with the traditional tossing of the covers (hats) by the MMA Corps of Cadets\, and if this toss is anything like other years it will lend a whole new meaning to ''Take Cover''! There are 46 seniors in MMA's Graduating Class of 2010.  For more information please call 956-421-9235.
X-ALT-DESC;FMTTYPE=text/html:The Marine Military Academy (MMA) will host the Academy's 44th Graduation Commencement on Saturday\, May 29th\, at 11 a.m. in the school's Phil Yeckel Memorial Auditorium featuring guest speaker William E. McHenry EdD\, Director of Training and Education Command - U.S. Marine Corps Junior Reserve Officer's Training Corps.  During Commencement\, there will also be addresses by Valedictorian Cadet Michael Robert Miller of Arlington\, Texas and Salutatorian Cadet Dylan Reece Joslin of Forney\, Texas. Commencement will conclude with the traditional tossing of the covers (hats) by the MMA Corps of Cadets\, and if this toss is anything like other years it will lend a whole new meaning to ''Take Cover''! There are 46 seniors in MMA's Graduating Class of 2010.  For more information please call 956-421-9235.
LOCATION:Phil Yeckel Memorial Auditorium
UID:e.1828.2518
SEQUENCE:3
DTSTAMP:20260422T051105Z
URL:https://business.harlingen.com/events/details/marine-military-academy-44th-graduation-ceremony-05-29-2010-2518
END:VEVENT

END:VCALENDAR
