BEGIN:VCALENDAR
VERSION:2.0
PRODID:-//ChamberMaster//Event Calendar 2.0//EN
METHOD:PUBLISH
X-PUBLISHED-TTL:P3D
REFRESH-INTERVAL:P3D
CALSCALE:GREGORIAN
BEGIN:VEVENT
DTSTART:20101105T210000Z
DTEND:20101105T210000Z
X-MICROSOFT-CDO-ALLDAYEVENT:FALSE
SUMMARY:Marine Military Academy 45th Anniversary Parade in conjunction with the 235th Anniversary of the USMC
DESCRIPTION:Your invited to attend 45th Anniversary Parade in conjunction with the 235th Anniversary of the United States Marine Corps.  Parade Reviewing Officer and Guest of Honor is Rear Admiral Joseph A. Horn\, Jr.\, U.S. Navy-Program Director\, Aegis Ballistic Missile Defense and Commander\, Navy Air and Missile Defense Command.\nThe public is invited\, bleacher seating is limited\, lawn chairs are welcome.  For more information please call Debbie Wieland 956-421-9235.
X-ALT-DESC;FMTTYPE=text/html:Your invited to attend 45th Anniversary Parade in conjunction with the 235th Anniversary of the United States Marine Corps.  Parade Reviewing Officer and Guest of Honor is Rear Admiral Joseph A. Horn\, Jr.\, U.S. Navy-Program Director\, Aegis Ballistic Missile Defense and Commander\, Navy Air and Missile Defense Command.\nThe public is invited\, bleacher seating is limited\, lawn chairs are welcome.  For more information please call Debbie Wieland 956-421-9235.
LOCATION:Marine Military Academy parade grounds.
UID:e.1828.2797
SEQUENCE:3
DTSTAMP:20260421T190909Z
URL:https://business.harlingen.com/events/details/marine-military-academy-45th-anniversary-parade-in-conjunction-with-the-235th-anniversary-of-the-usmc-11-05-2010-2797
END:VEVENT

END:VCALENDAR
