BEGIN:VCALENDAR
VERSION:2.0
PRODID:-//ChamberMaster//Event Calendar 2.0//EN
METHOD:PUBLISH
X-PUBLISHED-TTL:P3D
REFRESH-INTERVAL:P3D
CALSCALE:GREGORIAN
BEGIN:VEVENT
DTSTART:20120427T210000Z
DTEND:20120427T210000Z
X-MICROSOFT-CDO-ALLDAYEVENT:FALSE
SUMMARY:Marine Military Academy Alumni Reunion Parade
DESCRIPTION:Bleacher seating is limited. Lawn chairs are welcome.
X-ALT-DESC;FMTTYPE=text/html:Bleacher seating is limited. Lawn chairs are welcome. 
LOCATION:Marine Military Academy Parade Grounds
UID:e.1828.3630
SEQUENCE:3
DTSTAMP:20260420T163626Z
URL:https://business.harlingen.com/events/details/marine-military-academy-alumni-reunion-parade-04-27-2012-3630
END:VEVENT

END:VCALENDAR
