BEGIN:VCALENDAR
VERSION:2.0
PRODID:-//ChamberMaster//Event Calendar 2.0//EN
METHOD:PUBLISH
X-PUBLISHED-TTL:P3D
REFRESH-INTERVAL:P3D
CALSCALE:GREGORIAN
BEGIN:VEVENT
DTSTART:20110205T160000Z
DTEND:20110205T160000Z
X-MICROSOFT-CDO-ALLDAYEVENT:FALSE
SUMMARY:Marine Military Academy Corps of Cadets presents Introductory Training Graduation Parade 2011
DESCRIPTION:MMA To Host Introductory Training Completion Parade \nParade Deck aboard Marine Military Academy's Parade grounds\, located directly in front of the IWO JIMA Monument.  FREE Event\, Open To Public: The event recognizes MMA's newest cadets\, also referred to as 'plebes'\, as they graduate from four weeks of introductory training and become official members of MMA's Corps of Cadets. For more information please call Debbie Wieland at 956-421-9235.
X-ALT-DESC;FMTTYPE=text/html:MMA To Host Introductory Training Completion Parade \nParade Deck aboard Marine Military Academy's Parade grounds\, located directly in front of the IWO JIMA Monument.  FREE Event\, Open To Public: The event recognizes MMA's newest cadets\, also referred to as 'plebes'\, as they graduate from four weeks of introductory training and become official members of MMA's Corps of Cadets. For more information please call Debbie Wieland at 956-421-9235. \n
LOCATION:
UID:e.1828.2903
SEQUENCE:3
DTSTAMP:20260421T154913Z
URL:https://business.harlingen.com/events/details/marine-military-academy-corps-of-cadets-presents-introductory-training-graduation-parade-2011-02-05-2011-2903
END:VEVENT

END:VCALENDAR
