BEGIN:VCALENDAR
VERSION:2.0
PRODID:-//ChamberMaster//Event Calendar 2.0//EN
METHOD:PUBLISH
X-PUBLISHED-TTL:P3D
REFRESH-INTERVAL:P3D
CALSCALE:GREGORIAN
BEGIN:VEVENT
DTSTART:20110219T160000Z
DTEND:20110219T160000Z
X-MICROSOFT-CDO-ALLDAYEVENT:FALSE
SUMMARY:Marine Military Academy Corps of Cadets Presents the IWO JIMA PARADE
DESCRIPTION:10:AM \n\nMMA Corps of Cadets IWO JIMA PARADE with performances by Leatherneck Band and Silent Drill Team.  Special recognition of MMA's newest cadets graduating from four weeks of introductory training as of 2/4/2011.  All IWO  JIMA veterans are asked to step forward and join MMA President BGEN Stephen A. Cheney in Parade Review.\n\n10:AM- 4:PM\n\nFree admission to IWO JIMA MUSEUM\, special showings of video every hour about the U.S. taking of IWO JIMA.\n\nThe public is invited to this FREE event. No RSVP necessary bleacher seating is available lawn charis are welcome.  In the event of inclement weather pararde will not be rescheduled. \nFor more information please call Debbie Wieland at 956-421-9235.
X-ALT-DESC;FMTTYPE=text/html:10:AM \n\nMMA Corps of Cadets IWO JIMA PARADE with performances by Leatherneck Band and Silent Drill Team.  Special recognition of MMA's newest cadets graduating from four weeks of introductory training as of 2/4/2011.  All IWO  JIMA veterans are asked to step forward and join MMA President BGEN Stephen A. Cheney in Parade Review.\n\n10:AM- 4:PM\n\nFree admission to IWO JIMA MUSEUM\, special showings of video every hour about the U.S. taking of IWO JIMA.\n\nThe public is invited to this FREE event. No RSVP necessary bleacher seating is available lawn charis are welcome.  In the event of inclement weather pararde will not be rescheduled. \nFor more information please call Debbie Wieland at 956-421-9235.
LOCATION:MMA Parade grounds
UID:e.1828.2914
SEQUENCE:3
DTSTAMP:20260421T143131Z
URL:https://business.harlingen.com/events/details/marine-military-academy-corps-of-cadets-presents-the-iwo-jima-parade-02-19-2011-2914
END:VEVENT

END:VCALENDAR
