BEGIN:VCALENDAR
VERSION:2.0
PRODID:-//ChamberMaster//Event Calendar 2.0//EN
METHOD:PUBLISH
X-PUBLISHED-TTL:P3D
REFRESH-INTERVAL:P3D
CALSCALE:GREGORIAN
BEGIN:VEVENT
DTSTART:20100410T000000Z
DTEND:20100410T021500Z
X-MICROSOFT-CDO-ALLDAYEVENT:FALSE
SUMMARY:Marine Military Academy General H.M.Smith Foundation Fundraising Dinner
DESCRIPTION:ANNOUNCING Marine Military Academy's Signature Fundraising Event of 2010 !\n\nThe Academy's General H.M. Smith Foundation welcomes former astronaut and current National Aeronautics and Space (NASA) Administrator Major General Charles F. Bolden\, Jr.\, U.S. Marine Corps (Ret) as Dinner Guest of Honor/Speaker and Iwo Jima Leadership Award recipient. \n\nThe event will also feature Harlingen local Major Orrin Johnson\, USMCR (Ret)\, IWO JIMA veteran\, Academy Board Chairman Emeritus Trustee and General H.M. Smith Foundation Fellow also receiving the IWO JIMA Leadership Award. General J.F. Weber\, U.S. Marine Corps (Ret)\, Texas A   and\, in memoriam: MGySgt Thomas J. Jones\, USMC (Ret) and wife Jean of La Mesa\, California\; and Mrs. Pearl M. Tade of Carlsbad\, Calif
X-ALT-DESC;FMTTYPE=text/html:ANNOUNCING Marine Military Academy's Signature Fundraising Event of 2010 !\n\nThe Academy's General H.M. Smith Foundation welcomes former astronaut and current National Aeronautics and Space (NASA) Administrator Major General Charles F. Bolden\, Jr.\, U.S. Marine Corps (Ret) as Dinner Guest of Honor/Speaker and Iwo Jima Leadership Award recipient. \n\nThe event will also feature Harlingen local Major Orrin Johnson\, USMCR (Ret)\, IWO JIMA veteran\, Academy Board Chairman Emeritus Trustee and General H.M. Smith Foundation Fellow also receiving the IWO JIMA Leadership Award. General J.F. Weber\, U.S. Marine Corps (Ret)\, Texas A & M  Vice President - Student Affairs and  MMA  Board  Trustee\, will deliver a lively address on the topic ''World War II Battle of Iwo Jima''.\n\nLocation:  Marine Military Academy's Florence King Athletic Center\, 320 Iwo Jima Blvd.\, Harlingen Texas\n\nDate/Time:  Friday April 9th\, 7 p.m. Tickets\, table sponsorships\, and seating may be purchased by phone (956-421-9232)\, or e-mail (flores@mma-tx.org). \n\nCatering the event will be Wray's Creative Catering of San Benito.\n\nThe General H.M. Smith Foundation Dinner\, a revered and prestigious annual MMA tradition honoring the memory of U.S. Marine Corps General Holland M. Smith--famed war hero\, benefactor of children\, and staunch donor and supporter of Marine Military Academy\, was created in 1970 as a means of expressing gratitude for the extraordinary support given by General Smith towards the school's growth and development and those that share his dedication to MMA.  Major contributors who have reached or exceeded $100\,000 or more in contributions to MMA within the last fiscal year are inducted in to the Foundation as ‘Fellows'. To date\, 130 ‘fellows' have earned induction into the Foundation. This year's inductees include Mr. and Mrs. Milton Huebner of Houston\, Texas\; and\, in memoriam: MGySgt Thomas J. Jones\, USMC (Ret) and wife Jean of La Mesa\, California\; and Mrs. Pearl M. Tade of Carlsbad\, Calif
LOCATION:Located directly adjacent to Valley International Airport in Harlingen.
UID:e.1828.2470
SEQUENCE:3
DTSTAMP:20260422T062734Z
URL:https://business.harlingen.com/events/details/marine-military-academy-general-h-m-smith-foundation-fundraising-dinner-04-09-2010-2470
END:VEVENT

END:VCALENDAR
