BEGIN:VCALENDAR
VERSION:2.0
PRODID:-//ChamberMaster//Event Calendar 2.0//EN
METHOD:PUBLISH
X-PUBLISHED-TTL:P3D
REFRESH-INTERVAL:P3D
CALSCALE:GREGORIAN
BEGIN:VEVENT
DTSTART:20090919T150000Z
DTEND:20090919T150000Z
X-MICROSOFT-CDO-ALLDAYEVENT:FALSE
SUMMARY:Marine Military Academy Graduates 54 from Introductory Training
DESCRIPTION:The Marine Military Academy (MMA) hosts a parade and recognition presentation on\nSaturday\, 19 September 2009\, beginning at 10 a.m. on the MMA Parade Grounds directly in front of the Iwo\nJima Memorial. The event recognizes MMA's 54 new cadets\, also referred to as ‘plebes'\, as they graduate\nfrom four weeks of introductory training and become official members of MMA's Corps of Cadets. Following\nthe posting of the colors and singing of the National Anthem\, all plebes will be recognized and take their official\nOath of a Marine Military Academy Cadet. The plebes will then affix their insignia to their covers (hats) and pass in review for the first time as full-fledged Marine Military Academy Cadets. Reviewing Officer will be Brigadier General Stephen A. Cheney\, USMC (Ret)\, President of the Academy.  MMA extends an invitation to the media - Newspaper\, Radio\, TV - and the general public to attend this auspicious parade and recognition presentation. Bleacher seating is limited\; lawn chairs are welcome.  If you have any questions\, please feel free to call Debbie Wieland\, Public Affairs Officer\, at (956) 421-9235 or e-mail at: wieland@mma-tx.org.
X-ALT-DESC;FMTTYPE=text/html:The Marine Military Academy (MMA) hosts a parade and recognition presentation on\nSaturday\, 19 September 2009\, beginning at 10 a.m. on the MMA Parade Grounds directly in front of the Iwo\nJima Memorial. The event recognizes MMA's 54 new cadets\, also referred to as ‘plebes'\, as they graduate\nfrom four weeks of introductory training and become official members of MMA's Corps of Cadets. Following\nthe posting of the colors and singing of the National Anthem\, all plebes will be recognized and take their official\nOath of a Marine Military Academy Cadet. The plebes will then affix their insignia to their covers (hats) and pass in review for the first time as full-fledged Marine Military Academy Cadets. Reviewing Officer will be Brigadier General Stephen A. Cheney\, USMC (Ret)\, President of the Academy.  MMA extends an invitation to the media - Newspaper\, Radio\, TV - and the general public to attend this auspicious parade and recognition presentation. Bleacher seating is limited\; lawn chairs are welcome.  If you have any questions\, please feel free to call Debbie Wieland\, Public Affairs Officer\, at (956) 421-9235 or e-mail at: wieland@mma-tx.org.
LOCATION:
UID:e.1828.2079
SEQUENCE:3
DTSTAMP:20260422T111926Z
URL:https://business.harlingen.com/events/details/marine-military-academy-graduates-54-from-introductory-training-09-19-2009-2079
END:VEVENT

END:VCALENDAR
