BEGIN:VCALENDAR
VERSION:2.0
PRODID:-//ChamberMaster//Event Calendar 2.0//EN
METHOD:PUBLISH
X-PUBLISHED-TTL:P3D
REFRESH-INTERVAL:P3D
CALSCALE:GREGORIAN
BEGIN:VEVENT
DTSTART:20120526T140000Z
DTEND:20120526T140000Z
X-MICROSOFT-CDO-ALLDAYEVENT:FALSE
SUMMARY:Marine Military Academy Graduation Parade
DESCRIPTION:Bleacher seating is limited.  Lawn chairs are welcome.  For more information\, please call:  956-421-9235
X-ALT-DESC;FMTTYPE=text/html:Bleacher seating is limited.  Lawn chairs are welcome.  For more information\, please call:  956-421-9235 \n
LOCATION:Marine Military Academy Parade Grounds
UID:e.1828.3701
SEQUENCE:3
DTSTAMP:20260420T150730Z
URL:https://business.harlingen.com/events/details/marine-military-academy-graduation-parade-05-26-2012-3701
END:VEVENT

END:VCALENDAR
