BEGIN:VCALENDAR
VERSION:2.0
PRODID:-//ChamberMaster//Event Calendar 2.0//EN
METHOD:PUBLISH
X-PUBLISHED-TTL:P3D
REFRESH-INTERVAL:P3D
CALSCALE:GREGORIAN
BEGIN:VEVENT
DTSTART:20110910T150000Z
DTEND:20110910T150000Z
X-MICROSOFT-CDO-ALLDAYEVENT:FALSE
SUMMARY:MARINE MILITARY ACADEMY PARADE
DESCRIPTION:MARINE MILITARY ACADEMY GRADUATES 58 FROM INTRODUCTORY TRAINING\nHARLINGEN\, TX - The Marine Military Academy (MMA) hosts a parade and recognition presentation on the MMA Parade Grounds directly in front of the Iwo Jima Memorial. The event recognizes MMA's 58 newest cadets\, also referred to as ‘plebes'\, as they graduate from four weeks of introductory training and become official members of MMA's Corps of Cadets. \n\nMMA extends an invitation to the media - Newspaper\, Radio\, TV - and the general public to attend\nthis auspicious parade and recognition presentation. Bleacher seating is limited\; lawn chairs are\nALWAYS welcome!
X-ALT-DESC;FMTTYPE=text/html:MARINE MILITARY ACADEMY GRADUATES 58 FROM INTRODUCTORY TRAINING\nHARLINGEN\, TX - The Marine Military Academy (MMA) hosts a parade and recognition presentation on the MMA Parade Grounds directly in front of the Iwo Jima Memorial. The event recognizes MMA's 58 newest cadets\, also referred to as ‘plebes'\, as they graduate from four weeks of introductory training and become official members of MMA's Corps of Cadets. \n\nMMA extends an invitation to the media - Newspaper\, Radio\, TV - and the general public to attend\nthis auspicious parade and recognition presentation. Bleacher seating is limited\; lawn chairs are\nALWAYS welcome!\n
LOCATION:
UID:e.1828.3159
SEQUENCE:3
DTSTAMP:20260421T034722Z
URL:https://business.harlingen.com/events/details/marine-military-academy-parade-09-10-2011-3159
END:VEVENT

END:VCALENDAR
