BEGIN:VCALENDAR
VERSION:2.0
PRODID:-//ChamberMaster//Event Calendar 2.0//EN
METHOD:PUBLISH
X-PUBLISHED-TTL:P3D
REFRESH-INTERVAL:P3D
CALSCALE:GREGORIAN
BEGIN:VEVENT
DTSTART;VALUE=DATE:20111104
DTEND;VALUE=DATE:20111106
TRANSP:TRANSPARENT
X-MICROSOFT-CDO-ALLDAYEVENT:TRUE
SUMMARY:Marine Military Academy's 46th Birthday Ball/Parents Weekend
DESCRIPTION:Marine Military Academy Announces 46th Birthday Ball/Parents Weekend\, In Conjunction With The 236th Birthday of the United States Marine Corps\n\nHARLINGEN\, TX - The Marine Military Academy's 46th Birthday Ball/Parents Weekend will be held Friday through Saturday\, 4-5 November 2011. The weekend commemorates both the 46th birthday of the Academy and the 236th birthday of the United States Marine Corps.\n\nFriday\, November 4th\n8:35-8:45 a.m.             Morning Colors Formation\n8:50 a.m. -12:05 p.m.  Academic Open House For Cadets' Parents\, Families\, Friends\n4:00 p.m.                     Cadet Parade - Open to the Public: Bleacher Seating is limited\; \n   Lawn Chairs are welcome\n7:00 p.m.                     Homecoming football game vs. Monte Alto High School at MMA\n\nSaturday\, November 5th\n5:30 p.m.                     Reception at Neuhaus Mess/Dining Hall\n8:00 p.m.                     Traditional Anniversary Ceremony\n8:30 p.m.                     Birthday Ball begins with Mother/Son Dance\n\nIf you have any questions\, please feel free to contact MMA's Public Affairs Office at  (956) 421-9235.
X-ALT-DESC;FMTTYPE=text/html:Marine Military Academy Announces 46th Birthday Ball/Parents Weekend\, In Conjunction With The 236th Birthday of the United States Marine Corps\n\nHARLINGEN\, TX - The Marine Military Academy's 46th Birthday Ball/Parents Weekend will be held Friday through Saturday\, 4-5 November 2011. The weekend commemorates both the 46th birthday of the Academy and the 236th birthday of the United States Marine Corps.\n\nFriday\, November 4th\n8:35-8:45 a.m.             Morning Colors Formation\n8:50 a.m. -12:05 p.m.  Academic Open House For Cadets' Parents\, Families\, Friends\n4:00 p.m.                     Cadet Parade - Open to the Public: Bleacher Seating is limited\; \n   Lawn Chairs are welcome\n7:00 p.m.                     Homecoming football game vs. Monte Alto High School at MMA\n\nSaturday\, November 5th\n5:30 p.m.                     Reception at Neuhaus Mess/Dining Hall\n8:00 p.m.                     Traditional Anniversary Ceremony\n8:30 p.m.                     Birthday Ball begins with Mother/Son Dance\n\nIf you have any questions\, please feel free to contact MMA's Public Affairs Office at  (956) 421-9235.\n\n
LOCATION:
UID:e.1828.3191
SEQUENCE:3
DTSTAMP:20260421T021652Z
URL:https://business.harlingen.com/events/details/marine-military-academy-s-46th-birthday-ball-parents-weekend-11-04-2011-3191
END:VEVENT

END:VCALENDAR
