BEGIN:VCALENDAR
VERSION:2.0
PRODID:-//ChamberMaster//Event Calendar 2.0//EN
METHOD:PUBLISH
X-PUBLISHED-TTL:P3D
REFRESH-INTERVAL:P3D
CALSCALE:GREGORIAN
BEGIN:VEVENT
DTSTART:20110528T140000Z
DTEND:20110528T140000Z
X-MICROSOFT-CDO-ALLDAYEVENT:FALSE
SUMMARY:Marine Military Academy Salutes Class of 2011
DESCRIPTION:Class of 2011 Graduation Parade. Parade Reviewing Officer\, BGen Stephen A. Cheney\, USMC (Ret)\, Guest Of Honor\, Ruthie Ewers. All parades are held on the MMA Parade Grounds directly adjacent to the Iwo Jima Monument. These parades are FREE and open to the general public. Bleacher seating is limited and lawn chairs are welcome. For further information\, please contact the Academy's Public Affairs Officer Debbie Wieland at 956-421-9235: wieland@mmatx.org
X-ALT-DESC;FMTTYPE=text/html:Class of 2011 Graduation Parade. Parade Reviewing Officer\, BGen Stephen A. Cheney\, USMC (Ret)\, Guest Of Honor\, Ruthie Ewers. All parades are held on the MMA Parade Grounds directly adjacent to the Iwo Jima Monument. These parades are FREE and open to the general public. Bleacher seating is limited and lawn chairs are welcome. For further information\, please contact the Academy's Public Affairs Officer Debbie Wieland at 956-421-9235: wieland@mmatx.org
LOCATION:
UID:e.1828.3055
SEQUENCE:3
DTSTAMP:20260421T112220Z
URL:https://business.harlingen.com/events/details/marine-military-academy-salutes-class-of-2011-05-28-2011-3055
END:VEVENT

END:VCALENDAR
