BEGIN:VCALENDAR
VERSION:2.0
PRODID:-//ChamberMaster//Event Calendar 2.0//EN
METHOD:PUBLISH
X-PUBLISHED-TTL:P3D
REFRESH-INTERVAL:P3D
CALSCALE:GREGORIAN
BEGIN:VEVENT
DTSTART:20100731T140000Z
DTEND:20100731T140000Z
X-MICROSOFT-CDO-ALLDAYEVENT:FALSE
SUMMARY:Marine Military Academy Summer Camp & ELS Language Training Graduation Parade & Ceremony
DESCRIPTION:Marine Military Academy will host the following events in recognition of CAMPERS' successful completion of the required four (4) weeks of Summer Camp and English-As-A-Second (ESL) Language training: Graduation Parade featuring 330 Summer Campers who have completed the Academy's Introductory Training program and 30 ESL Students and Graduation Ceremonies on Battalion Street\, in front of respective Company barracks.  Young men ages 12 through 17 attending MMA's Summer and ESL camps hail from 32 states and Argentina\, China\, Taiwan\, Kuwait\, Germany\,  Mexico\, Puerto Rico\, Guam\, France\, and Spain.  Saturday's Parade will be held 'weather permitting'.  The Public is invited\; Bleacher seating limited--Lawn chairs are welcome.  For more information\, please call 956-421-9235
X-ALT-DESC;FMTTYPE=text/html:Marine Military Academy will host the following events in recognition of CAMPERS' successful completion of the required four (4) weeks of Summer Camp and English-As-A-Second (ESL) Language training: Graduation Parade featuring 330 Summer Campers who have completed the Academy's Introductory Training program and 30 ESL Students and Graduation Ceremonies on Battalion Street\, in front of respective Company barracks.  Young men ages 12 through 17 attending MMA's Summer and ESL camps hail from 32 states and Argentina\, China\, Taiwan\, Kuwait\, Germany\,  Mexico\, Puerto Rico\, Guam\, France\, and Spain.  Saturday's Parade will be held 'weather permitting'.  The Public is invited\; Bleacher seating limited--Lawn chairs are welcome.  For more information\, please call 956-421-9235\n \n
LOCATION:
UID:e.1828.2615
SEQUENCE:3
DTSTAMP:20260422T015747Z
URL:https://business.harlingen.com/events/details/marine-military-academy-summer-camp-els-language-training-graduation-parade-ceremony-07-31-2010-2615
END:VEVENT

END:VCALENDAR
