BEGIN:VCALENDAR
VERSION:2.0
PRODID:-//ChamberMaster//Event Calendar 2.0//EN
METHOD:PUBLISH
X-PUBLISHED-TTL:P3D
REFRESH-INTERVAL:P3D
CALSCALE:GREGORIAN
BEGIN:VEVENT
DTSTART:20111005T183000Z
DTEND:20111005T200000Z
X-MICROSOFT-CDO-ALLDAYEVENT:FALSE
SUMMARY:"Marketing in the NEW Economy - Seminar
DESCRIPTION:Most business owners and managers wonder how they can make their advertising and marketing more effective\, particularly in this competitive and challenging environment. As part of our commitment to serve you better\, KGBT Action 4 invites you to attend a FREE special seminar with marketing expert Tom Ray: \n \n"Marketing in the NEW Economy -\nA Guide for the LOCAL Advertiser"\n\nSeating for this seminar is limited. To reserve your place\, please call in your reservation today:  Sylvia Richardson 956-366-4463.\n            \nThis program is not a sales pitch for our TV station. In fact\, Tom's material is relevant no matter where you advertise. Our goal is to give you marketing information that can grow your business.
X-ALT-DESC;FMTTYPE=text/html:Most business owners and managers wonder how they can make their advertising and marketing more effective\, particularly in this competitive and challenging environment. As part of our commitment to serve you better\, KGBT Action 4 invites you to attend a FREE special seminar with marketing expert Tom Ray: \n \n"Marketing in the NEW Economy -\nA Guide for the LOCAL Advertiser"\n\nSeating for this seminar is limited. To reserve your place\, please call in your reservation today:  Sylvia Richardson 956-366-4463.\n            \nThis program is not a sales pitch for our TV station. In fact\, Tom's material is relevant no matter where you advertise. Our goal is to give you marketing information that can grow your business. \n \n
LOCATION:
UID:e.1828.3171
SEQUENCE:3
DTSTAMP:20260421T034602Z
URL:https://business.harlingen.com/events/details/marketing-in-the-new-economy-seminar-10-05-2011-3171
END:VEVENT

END:VCALENDAR
