BEGIN:VCALENDAR
VERSION:2.0
PRODID:-//ChamberMaster//Event Calendar 2.0//EN
METHOD:PUBLISH
X-PUBLISHED-TTL:P3D
REFRESH-INTERVAL:P3D
CALSCALE:GREGORIAN
BEGIN:VEVENT
DTSTART:20100224T200000Z
DTEND:20100224T220000Z
X-MICROSOFT-CDO-ALLDAYEVENT:FALSE
SUMMARY:''Marketing to Government Agencies'' Seminar
DESCRIPTION:Marketing to Government Agencies\n\nAre you interested in finding out what the government is buying and where to go to find out who is buying?  \n\n''Marketing to Government Agencies'' a workshop sponsored by the Rio South Texas Regional Procurement Technical Assistance Center (PTAC) and the Small Business Development Center (SBDC) at The University of Texas-Pan American\, gives strategies and tactics for marketing to the state and federal government.  \n\nThe session is scheduled for February 24 from 2 pm to 4 pm at the Harlingen Area Chamber of Commerce\, located at 311 E. Tyler in Harlingen.  \n\nPTAC Director Mark Winchester encourages business owners to attend this seminar. ''Getting contracts with the federal government doesn't stop after obtaining certifications and registrations. Like the private sector\, your company will also need to market itself to federal agencies in order to obtain contracts and increase sales.''\n\nThe session also covers opportunities under the 2009 American Recovery & Reinvestment Act Opportunities.\n\nTo register for this seminar\, please contact PTAC or SBDC at 956/ 292-7535 or the Harlingen Area Chamber at 956-423-5440.
X-ALT-DESC;FMTTYPE=text/html:Marketing to Government Agencies\n\nAre you interested in finding out what the government is buying and where to go to find out who is buying?  \n\n''Marketing to Government Agencies'' a workshop sponsored by the Rio South Texas Regional Procurement Technical Assistance Center (PTAC) and the Small Business Development Center (SBDC) at The University of Texas-Pan American\, gives strategies and tactics for marketing to the state and federal government.  \n\nThe session is scheduled for February 24 from 2 pm to 4 pm at the Harlingen Area Chamber of Commerce\, located at 311 E. Tyler in Harlingen.  \n\nPTAC Director Mark Winchester encourages business owners to attend this seminar. ''Getting contracts with the federal government doesn't stop after obtaining certifications and registrations. Like the private sector\, your company will also need to market itself to federal agencies in order to obtain contracts and increase sales.''\n\nThe session also covers opportunities under the 2009 American Recovery & Reinvestment Act Opportunities.\n\nTo register for this seminar\, please contact PTAC or SBDC at 956/ 292-7535 or the Harlingen Area Chamber at 956-423-5440.\n
LOCATION:
UID:e.1828.2378
SEQUENCE:3
DTSTAMP:20260422T095125Z
URL:https://business.harlingen.com/events/details/marketing-to-government-agencies-seminar-02-24-2010-2378
END:VEVENT

END:VCALENDAR
