BEGIN:VCALENDAR
VERSION:2.0
PRODID:-//ChamberMaster//Event Calendar 2.0//EN
METHOD:PUBLISH
X-PUBLISHED-TTL:P3D
REFRESH-INTERVAL:P3D
CALSCALE:GREGORIAN
BEGIN:VEVENT
DTSTART:20110223T200000Z
DTEND:20110223T220000Z
X-MICROSOFT-CDO-ALLDAYEVENT:FALSE
SUMMARY:Marketing Your Business
DESCRIPTION:Marketing Your Business\nAn Expert Panel Discussion on Low-Cost Marketing Strategies!\nThis free seminar features representatives from rgVision\, MPC Studios and VTX Communications.\n To RSVP call the chamber at (956) 423-5440.\n\nMaking Dreams Come True\, One Business At A Time!\nThe University of Texas Pan American Small Business Development Center\nA COMPONENT OF THE BUSINESS DEVELOPMENT & INNOVATION GROUP \n2412 S Closner Blvd\, Edinburg TX 78539\nPh 956/292-7535 Fax 956/292-7561\nwww.utpa.edu/sbdc
X-ALT-DESC;FMTTYPE=text/html:Marketing Your Business\nAn Expert Panel Discussion on Low-Cost Marketing Strategies!\nThis free seminar features representatives from rgVision\, MPC Studios and VTX Communications.\n To RSVP call the chamber at (956) 423-5440.\n\nMaking Dreams Come True\, One Business At A Time!\nThe University of Texas Pan American Small Business Development Center\nA COMPONENT OF THE BUSINESS DEVELOPMENT & INNOVATION GROUP \n2412 S Closner Blvd\, Edinburg TX 78539\nPh 956/292-7535 Fax 956/292-7561\nwww.utpa.edu/sbdc\n
LOCATION:
UID:e.1828.2910
SEQUENCE:3
DTSTAMP:20260421T142441Z
URL:https://business.harlingen.com/events/details/marketing-your-business-02-23-2011-2910
END:VEVENT

END:VCALENDAR
