BEGIN:VCALENDAR
VERSION:2.0
PRODID:-//ChamberMaster//Event Calendar 2.0//EN
METHOD:PUBLISH
X-PUBLISHED-TTL:P3D
REFRESH-INTERVAL:P3D
CALSCALE:GREGORIAN
BEGIN:VEVENT
DTSTART:20110420T140000Z
DTEND:20110420T160000Z
X-MICROSOFT-CDO-ALLDAYEVENT:FALSE
SUMMARY:Marketing Your Business
DESCRIPTION:An Expert Panel Discussion on Low-Cost Marketing Strategies!   Featuring:\nDavid Watkins-MPC Studios\nColleen Willis-KGBT Action 4\nGabriel Puente-rgVision Magazine \n \nFREE Session! \nRSVP to (956) 423-5440.
X-ALT-DESC;FMTTYPE=text/html:An Expert Panel Discussion on Low-Cost Marketing Strategies!   Featuring:\nDavid Watkins-MPC Studios\nColleen Willis-KGBT Action 4\nGabriel Puente-rgVision Magazine \n \nFREE Session! \nRSVP to (956) 423-5440.   \n
LOCATION:
UID:e.1828.3028
SEQUENCE:3
DTSTAMP:20260421T112836Z
URL:https://business.harlingen.com/events/details/marketing-your-business-04-20-2011-3028
END:VEVENT

END:VCALENDAR
