BEGIN:VCALENDAR
VERSION:2.0
PRODID:-//ChamberMaster//Event Calendar 2.0//EN
METHOD:PUBLISH
X-PUBLISHED-TTL:P3D
REFRESH-INTERVAL:P3D
CALSCALE:GREGORIAN
BEGIN:VEVENT
DTSTART:20091117T190000Z
DTEND:20091117T190000Z
X-MICROSOFT-CDO-ALLDAYEVENT:FALSE
SUMMARY:Matrimonio Magnifico Nominations
DESCRIPTION:H.A.R.P. CC is calling for nominations for ''Magnificent  Marriages'' in Cameron County to be honored at the 3rd Annual Matrimonio Magnifico event.  \n\nThe selected couples will then be honored at a gala dinner\, where they will walk down a red carpet to receive their award.\n\nDeadline for nominations: Friday\, December 11\, 2009 at 5:00 p.m.  Announcements of selected couples will be made by Monday\, January 4\, 2010 on the HARP website.\n\nFor nomination forms: Visit www.harpcc.com to download a nomination form\, call HARP at (956) 544-7165  or come by and pick up a form at HARP Headquarters: 1601 E. Alton Gloor Brownsville\, Texas 78526.
X-ALT-DESC;FMTTYPE=text/html:H.A.R.P. CC is calling for nominations for ''Magnificent  Marriages'' in Cameron County to be honored at the 3rd Annual Matrimonio Magnifico event.  \n\nThe selected couples will then be honored at a gala dinner\, where they will walk down a red carpet to receive their award.\n\nDeadline for nominations: Friday\, December 11\, 2009 at 5:00 p.m.  Announcements of selected couples will be made by Monday\, January 4\, 2010 on the HARP website.\n\nFor nomination forms: Visit www.harpcc.com to download a nomination form\, call HARP at (956) 544-7165  or come by and pick up a form at HARP Headquarters: 1601 E. Alton Gloor Brownsville\, Texas 78526.\n
LOCATION:H.A.R.P. Cameron County
UID:e.1828.2215
SEQUENCE:3
DTSTAMP:20260422T144123Z
URL:https://business.harlingen.com/events/details/matrimonio-magnifico-nominations-11-17-2009-2215
END:VEVENT

END:VCALENDAR
