BEGIN:VCALENDAR
VERSION:2.0
PRODID:-//ChamberMaster//Event Calendar 2.0//EN
METHOD:PUBLISH
X-PUBLISHED-TTL:P3D
REFRESH-INTERVAL:P3D
CALSCALE:GREGORIAN
BEGIN:VEVENT
DTSTART:20110517T223000Z
DTEND:20110517T223000Z
X-MICROSOFT-CDO-ALLDAYEVENT:FALSE
SUMMARY:Mattress Firm Grand Opening and Ribbon Cutting
DESCRIPTION:Mattress Firm will be holding the grand opening and ribbon cutting ceremony of their new location in Harlingen. Come join in welcoming them and take a look at the new store.
X-ALT-DESC;FMTTYPE=text/html:Mattress Firm will be holding the grand opening and ribbon cutting ceremony of their new location in Harlingen. Come join in welcoming them and take a look at the new store.  \n
LOCATION:
UID:e.1828.3044
SEQUENCE:3
DTSTAMP:20260421T112627Z
URL:https://business.harlingen.com/events/details/mattress-firm-grand-opening-and-ribbon-cutting-05-17-2011-3044
END:VEVENT

END:VCALENDAR
