BEGIN:VCALENDAR
VERSION:2.0
PRODID:-//ChamberMaster//Event Calendar 2.0//EN
METHOD:PUBLISH
X-PUBLISHED-TTL:P3D
REFRESH-INTERVAL:P3D
CALSCALE:GREGORIAN
BEGIN:VEVENT
DTSTART;VALUE=DATE:20090919
DTEND;VALUE=DATE:20091001
TRANSP:TRANSPARENT
X-MICROSOFT-CDO-ALLDAYEVENT:TRUE
SUMMARY:Maurices Accepting Food Donations for Harlingen Humane Society
DESCRIPTION:During the month of September\, Maurices will be accepting Dog & Cat food for the Harlingen Humane Society.  Maurices supports the ASPCA which provides critical funding \, information and training to local animal shelters throughout the country.  We sincerely appreciate your contribution in helping our shelter do what it does best - provide a place of love and comfort to our most vulnerable citizens...homeless pets.  For more information\, please call 956-421-2411.
X-ALT-DESC;FMTTYPE=text/html:During the month of September\, Maurices will be accepting Dog & Cat food for the Harlingen Humane Society.  Maurices supports the ASPCA which provides critical funding \, information and training to local animal shelters throughout the country.  We sincerely appreciate your contribution in helping our shelter do what it does best - provide a place of love and comfort to our most vulnerable citizens...homeless pets.  For more information\, please call 956-421-2411.
LOCATION:
UID:e.1828.2067
SEQUENCE:3
DTSTAMP:20260422T112352Z
URL:https://business.harlingen.com/events/details/maurices-accepting-food-donations-for-harlingen-humane-society-09-19-2009-2067
END:VEVENT

END:VCALENDAR
