BEGIN:VCALENDAR
VERSION:2.0
PRODID:-//ChamberMaster//Event Calendar 2.0//EN
METHOD:PUBLISH
X-PUBLISHED-TTL:P3D
REFRESH-INTERVAL:P3D
CALSCALE:GREGORIAN
BEGIN:VEVENT
DTSTART:20101114T010000Z
DTEND:20101114T040000Z
X-MICROSOFT-CDO-ALLDAYEVENT:FALSE
SUMMARY:Maurices Friends & Family Night
DESCRIPTION:Shop at Maurices during friends & family night & receive 15% off your regular priced purchase. There will be refreshments & holiday treats...along with a drawing for a Maurices Gift Card! For questions please call 956-421-2411.
X-ALT-DESC;FMTTYPE=text/html:Shop at Maurices during friends & family night & receive 15% off your regular priced purchase. There will be refreshments & holiday treats...along with a drawing for a Maurices Gift Card! For questions please call 956-421-2411.\n
LOCATION:
UID:e.1828.2841
SEQUENCE:3
DTSTAMP:20260421T190739Z
URL:https://business.harlingen.com/events/details/maurices-friends-family-night-11-13-2010-2841
END:VEVENT

END:VCALENDAR
