BEGIN:VCALENDAR
VERSION:2.0
PRODID:-//ChamberMaster//Event Calendar 2.0//EN
METHOD:PUBLISH
X-PUBLISHED-TTL:P3D
REFRESH-INTERVAL:P3D
CALSCALE:GREGORIAN
BEGIN:VEVENT
DTSTART;VALUE=DATE:20101201
DTEND;VALUE=DATE:20101224
TRANSP:TRANSPARENT
X-MICROSOFT-CDO-ALLDAYEVENT:TRUE
SUMMARY:Maurices Toy Drive
DESCRIPTION:Maurices Toy Drive\nNow through December 23\nHarlingen Corners - 2819 W. Expwy 83 Frontage\, Space 300\nFor every new toy (minimum value $5) you donate\, receive a coupon for 20% off one regular priced item. Please call store for details 956-421-2411.
X-ALT-DESC;FMTTYPE=text/html:Maurices Toy Drive\nNow through December 23\nHarlingen Corners - 2819 W. Expwy 83 Frontage\, Space 300\nFor every new toy (minimum value $5) you donate\, receive a coupon for 20% off one regular priced item. Please call store for details 956-421-2411.\n
LOCATION:
UID:e.1828.2868
SEQUENCE:3
DTSTAMP:20260421T171452Z
URL:https://business.harlingen.com/events/details/maurices-toy-drive-12-01-2010-2868
END:VEVENT

END:VCALENDAR
