BEGIN:VCALENDAR
VERSION:2.0
PRODID:-//ChamberMaster//Event Calendar 2.0//EN
METHOD:PUBLISH
X-PUBLISHED-TTL:P3D
REFRESH-INTERVAL:P3D
CALSCALE:GREGORIAN
BEGIN:VEVENT
DTSTART:20120127T173000Z
DTEND:20120127T190000Z
X-MICROSOFT-CDO-ALLDAYEVENT:FALSE
SUMMARY:Mayor's "State of the City" Address
DESCRIPTION:Event is Open to the Public \n \nOn Friday\, January 27\, 2012\, Harlingen Mayor Chris Boswell will present his "State of the City" address. The annual address is sponsored by the Rotary Club of Harlingen. Mayor Boswell will report on the City's accomplishments for 2011 and tell the community what it has to look forward to in 2012.\nThe event will take place at the Rotary Club's regular lunch meeting at The Reese\, 202 S. First Street\, in downtown Harlingen\, from 11:30 a.m. to 1:00 p.m. The "State of the City" address is open to the public. Lunch will be served but plates are limited and tickets will be sold on a first-come\, first-served basis at the door. Seating for those not wishing to eat also will be provided\, as in the past. For more information\, contact City Secretary Amanda Elizondo at 216-5001.
X-ALT-DESC;FMTTYPE=text/html:Event is Open to the Public \n \nOn Friday\, January 27\, 2012\, Harlingen Mayor Chris Boswell will present his "State of the City" address. The annual address is sponsored by the Rotary Club of Harlingen. Mayor Boswell will report on the City's accomplishments for 2011 and tell the community what it has to look forward to in 2012.\nThe event will take place at the Rotary Club's regular lunch meeting at The Reese\, 202 S. First Street\, in downtown Harlingen\, from 11:30 a.m. to 1:00 p.m. The "State of the City" address is open to the public. Lunch will be served but plates are limited and tickets will be sold on a first-come\, first-served basis at the door. Seating for those not wishing to eat also will be provided\, as in the past. For more information\, contact City Secretary Amanda Elizondo at 216-5001.\n
LOCATION:
UID:e.1828.3375
SEQUENCE:3
DTSTAMP:20260420T213214Z
URL:https://business.harlingen.com/events/details/mayor-s-state-of-the-city-address-01-27-2012-3375
END:VEVENT

END:VCALENDAR
