BEGIN:VCALENDAR
VERSION:2.0
PRODID:-//ChamberMaster//Event Calendar 2.0//EN
METHOD:PUBLISH
X-PUBLISHED-TTL:P3D
REFRESH-INTERVAL:P3D
CALSCALE:GREGORIAN
BEGIN:VEVENT
DTSTART:20100324T230000Z
DTEND:20100325T010000Z
X-MICROSOFT-CDO-ALLDAYEVENT:FALSE
SUMMARY:Mayoral Political Forum
DESCRIPTION:Golden Palms Retirement & Health Center invites you to come meet your Harlingen Mayoral candidates.
X-ALT-DESC;FMTTYPE=text/html:Golden Palms Retirement & Health Center invites you to come meet your Harlingen Mayoral candidates.
LOCATION:
UID:e.1828.2435
SEQUENCE:3
DTSTAMP:20260422T080806Z
URL:https://business.harlingen.com/events/details/mayoral-political-forum-03-24-2010-2435
END:VEVENT

END:VCALENDAR
