BEGIN:VCALENDAR
VERSION:2.0
PRODID:-//ChamberMaster//Event Calendar 2.0//EN
METHOD:PUBLISH
X-PUBLISHED-TTL:P3D
REFRESH-INTERVAL:P3D
CALSCALE:GREGORIAN
BEGIN:VEVENT
DTSTART:20101113T190000Z
DTEND:20101113T210000Z
X-MICROSOFT-CDO-ALLDAYEVENT:FALSE
SUMMARY:McHappy Day & Annual Penny Drive
DESCRIPTION:Each year\, with YOUR help\, the Valley's Ronald McDonald House welcomes hundreds of families\, offering comfort and care as their children face life-threatening illnesses. On November 13 we'll celebrate those children.  Join Ronald at ''The House That Love Built!'' for a day of fun filled activities including personal one on one time with Ronald McDonald\, games & crafts for the children\, face painting and much more.  We look forward to seeing you & your family!
X-ALT-DESC;FMTTYPE=text/html:Each year\, with YOUR help\, the Valley's Ronald McDonald House welcomes hundreds of families\, offering comfort and care as their children face life-threatening illnesses. On November 13 we'll celebrate those children.  Join Ronald at ''The House That Love Built!'' for a day of fun filled activities including personal one on one time with Ronald McDonald\, games & crafts for the children\, face painting and much more.  We look forward to seeing you & your family! \n
LOCATION:
UID:e.1828.2815
SEQUENCE:3
DTSTAMP:20260421T190012Z
URL:https://business.harlingen.com/events/details/mchappy-day-annual-penny-drive-11-13-2010-2815
END:VEVENT

END:VCALENDAR
