BEGIN:VCALENDAR
VERSION:2.0
PRODID:-//ChamberMaster//Event Calendar 2.0//EN
METHOD:PUBLISH
X-PUBLISHED-TTL:P3D
REFRESH-INTERVAL:P3D
CALSCALE:GREGORIAN
BEGIN:VEVENT
DTSTART:20091213T013000Z
DTEND:20091213T013000Z
X-MICROSOFT-CDO-ALLDAYEVENT:FALSE
SUMMARY:McMillan School of Dance Presents Dance Domination
DESCRIPTION:Jazz\, tap & ballet performances.  Tickets available online at www.harlingenarts.com.  For more information\, please call 956-423-0503.
X-ALT-DESC;FMTTYPE=text/html:Jazz\, tap & ballet performances.  Tickets available online at www.harlingenarts.com.  For more information\, please call 956-423-0503.
LOCATION:
UID:e.1828.2268
SEQUENCE:3
DTSTAMP:20260422T130359Z
URL:https://business.harlingen.com/events/details/mcmillan-school-of-dance-presents-dance-domination-12-12-2009-2268
END:VEVENT

END:VCALENDAR
