BEGIN:VCALENDAR
VERSION:2.0
PRODID:-//ChamberMaster//Event Calendar 2.0//EN
METHOD:PUBLISH
X-PUBLISHED-TTL:P3D
REFRESH-INTERVAL:P3D
CALSCALE:GREGORIAN
BEGIN:VEVENT
DTSTART:20100227T140000Z
DTEND:20100227T140000Z
X-MICROSOFT-CDO-ALLDAYEVENT:FALSE
SUMMARY:MDA Stride and Ride Walk to benefit the Muscular Dystrophy
DESCRIPTION:MDA Stride and Ride Walk to benefit the Muscular Dystrophy.\n\nThe Muscular Dystrophy Association is the world's leading voluntary health organization\, fighting more than 40 muscle-wasting diseases that affect hundreds of people of all ages right here in the RGV.  Money raised will help MDA continue providing services such as expert medical care at our MDA Clinic (Valley Baptist Medical Center)\, MDA summer camps for youngsters\, repair of wheelchairs and other equipment. MDA also funds hundreds of top scientists world-wide seeking treatments and cures.  MDA seeks no government or United Way funding or fees from those it serves. The Association's programs are funded almost entirely by individual\, private contributions.  Team Captains and team members are needed to make this event a success.  For more information\, call or email us at (956) 412-8797 or drodriguez@mdausa.org\n\nLocation: Rio Grande Valley Premium Outlets in Mercedes Texas\nDate: Saturday\, February 27\, 2010\nTime: 8:00 am Registration
X-ALT-DESC;FMTTYPE=text/html:MDA Stride and Ride Walk to benefit the Muscular Dystrophy.\n\nThe Muscular Dystrophy Association is the world's leading voluntary health organization\, fighting more than 40 muscle-wasting diseases that affect hundreds of people of all ages right here in the RGV.  Money raised will help MDA continue providing services such as expert medical care at our MDA Clinic (Valley Baptist Medical Center)\, MDA summer camps for youngsters\, repair of wheelchairs and other equipment. MDA also funds hundreds of top scientists world-wide seeking treatments and cures.  MDA seeks no government or United Way funding or fees from those it serves. The Association's programs are funded almost entirely by individual\, private contributions.  Team Captains and team members are needed to make this event a success.  For more information\, call or email us at (956) 412-8797 or drodriguez@mdausa.org\n\nLocation: Rio Grande Valley Premium Outlets in Mercedes Texas\nDate: Saturday\, February 27\, 2010\nTime: 8:00 am Registration \n\n
LOCATION:
UID:e.1828.2370
SEQUENCE:3
DTSTAMP:20260422T094917Z
URL:https://business.harlingen.com/events/details/mda-stride-and-ride-walk-to-benefit-the-muscular-dystrophy-02-27-2010-2370
END:VEVENT

END:VCALENDAR
