BEGIN:VCALENDAR
VERSION:2.0
PRODID:-//ChamberMaster//Event Calendar 2.0//EN
METHOD:PUBLISH
X-PUBLISHED-TTL:P3D
REFRESH-INTERVAL:P3D
CALSCALE:GREGORIAN
BEGIN:VEVENT
DTSTART:20100331T190000Z
DTEND:20100331T210000Z
X-MICROSOFT-CDO-ALLDAYEVENT:FALSE
SUMMARY:''Meet the Buyer'' Seminar
DESCRIPTION:Does your business need to increase sales? Have you ever wanted to do business with state agencies? \n    \n    \n         \n    \n    \n        Buyers from The University of Texas-Pan American\, The University of Texas at Brownsville\, and Texas State Technical College are available to meet with business owners interested in doing business with these public institutions. \n    \n    \n         \n    \n    \n        The ''Meet the Buyer'' session is scheduled for March 31st from 2 to 4 p.m. at the Harlingen Area Chamber of Commerce\, located at 311 E. Tyler in Harlingen.  \n    \n    \n        \n         \n        \n    \n    \n        The workshop is sponsored by the Rio South Texas Regional Procurement Technical Assistance Center (PTAC) and the Small Business Development Center (SBDC) at The University of Texas-Pan American in Edinburg.
X-ALT-DESC;FMTTYPE=text/html:<html>\n<head>\n</head>\n<body>\n    <p class="MsoNormal" style="MARGIN: 0in 0in 0pt\; TEXT-ALIGN: justify\; mso-layout-grid-align: none">\n        Does your business need to increase sales? Have you ever wanted to do business with state agencies? \n    </p>\n    <p class="MsoNormal" style="MARGIN: 0in 0in 0pt\; TEXT-ALIGN: justify\; mso-layout-grid-align: none"><?xml:namespace \nprefix = o ns = "urn:schemas-microsoft-com:office:office" \n/>\n        <o:p>&nbsp\;</o:p>\n    </p>\n    <p class="MsoNormal" style="MARGIN: 0in 0in 0pt\; TEXT-ALIGN: justify\; mso-layout-grid-align: none">\n        Buyers from T<span style="mso-bidi-font-weight: bold">he University of Texas-Pan American\, The University of Texas at Brownsville\, and Texas State Technical College are available to meet with business owners interested in doing business with these public institutions. </span>\n    </p>\n    <p class="MsoNormal" style="MARGIN: 0in 0in 0pt\; TEXT-ALIGN: justify">\n        <o:p>&nbsp\;</o:p>\n    </p>\n    <p class="MsoNormal" style="MARGIN: 0in 0in 0pt\; TEXT-ALIGN: justify">\n        The ''<span style="mso-bidi-font-style: italic">Meet the Buyer'' session </span>is scheduled for March 31<sup>st</sup> from 2 to 4 p.m. at the Harlingen Area Chamber of Commerce\, located at 311 E. Tyler in Harlingen.<span style="mso-spacerun: yes">&nbsp\; </span>\n    </p>\n    <p class="MsoNormal" style="MARGIN: 0in 0in 0pt\; TEXT-ALIGN: justify">\n        <span style="mso-bidi-font-style: italic">\n        <o:p>&nbsp\;</o:p>\n        </span>\n    </p>\n    <p class="MsoNormal" style="MARGIN: 0in 0in 0pt\; TEXT-ALIGN: justify">\n        <span style="mso-bidi-font-style: italic">The workshop is </span>sponsored by the Rio South Texas Regional Procurement Technical Assistance Center (PTAC) and the Small Business Development Center (SBDC) at The University of Texas-Pan American in Edinburg.\n    </p>\n    <p class="MsoNormal" style="MARGIN: 0in 0in 0pt\; TEXT-ALIGN: justify">\n        <o:p>&nbsp\;</o:p>\n    </p>\n   
LOCATION:
UID:e.1828.2427
SEQUENCE:3
DTSTAMP:20260422T080926Z
URL:https://business.harlingen.com/events/details/meet-the-buyer-seminar-03-31-2010-2427
END:VEVENT

END:VCALENDAR
