BEGIN:VCALENDAR
VERSION:2.0
PRODID:-//ChamberMaster//Event Calendar 2.0//EN
METHOD:PUBLISH
X-PUBLISHED-TTL:P3D
REFRESH-INTERVAL:P3D
CALSCALE:GREGORIAN
BEGIN:VEVENT
DTSTART:20100824T190000Z
DTEND:20100824T210000Z
X-MICROSOFT-CDO-ALLDAYEVENT:FALSE
SUMMARY:Meet the Buyers Workshop
DESCRIPTION:The Rio Grande Valley Partnership Chamber of Commerce & Rio South Texas Regional Procurement Technical Assistance Center (PTAC) present a workshop titled Meet the Buyers.  This is the perfect opportunity to meet federal buyers from agencies such as the Naval Air Station\, the General Services Administration (GSA) and  \nCustomers and Border Protection.  Learn how Federal Agencies do business and find out if they buy what you sell!  These entities will be present to answer your business questions.  To register for this FREE session\, please call (956)968-3141.  RSVP TODAY!
X-ALT-DESC;FMTTYPE=text/html:The Rio Grande Valley Partnership Chamber of Commerce & Rio South Texas Regional Procurement Technical Assistance Center (PTAC) present a workshop titled Meet the Buyers.  This is the perfect opportunity to meet federal buyers from agencies such as the Naval Air Station\, the General Services Administration (GSA) and  \nCustomers and Border Protection.  Learn how Federal Agencies do business and find out if they buy what you sell!  These entities will be present to answer your business questions.  To register for this FREE session\, please call (956)968-3141.  RSVP TODAY! \n \n\n
LOCATION:
UID:e.1828.2666
SEQUENCE:3
DTSTAMP:20260422T014712Z
URL:https://business.harlingen.com/events/details/meet-the-buyers-workshop-08-24-2010-2666
END:VEVENT

END:VCALENDAR
