BEGIN:VCALENDAR
VERSION:2.0
PRODID:-//ChamberMaster//Event Calendar 2.0//EN
METHOD:PUBLISH
X-PUBLISHED-TTL:P3D
REFRESH-INTERVAL:P3D
CALSCALE:GREGORIAN
BEGIN:VEVENT
DTSTART:20120517T230000Z
DTEND:20120518T013000Z
X-MICROSOFT-CDO-ALLDAYEVENT:FALSE
SUMMARY:Meet the GOP and Democratic candidates for the new U.S. Congressional District 34:
DESCRIPTION:Meet the GOP and Democratic candidates for the new U.S. Congressional District 34:\nDemocratic Congressional Forum. For more information\, please call Norma at (956) 793-1393. Sponsored by Golden Palms Retirement and Healthcare Center.
X-ALT-DESC;FMTTYPE=text/html:Meet the GOP and Democratic candidates for the new U.S. Congressional District 34:\nDemocratic Congressional Forum. For more information\, please call Norma at (956) 793-1393. Sponsored by Golden Palms Retirement and Healthcare Center.\n \n
LOCATION:
UID:e.1828.3655
SEQUENCE:3
DTSTAMP:20260420T164006Z
URL:https://business.harlingen.com/events/details/meet-the-gop-and-democratic-candidates-for-the-new-u-s-congressional-district-34-05-17-2012-3655
END:VEVENT

END:VCALENDAR
