BEGIN:VCALENDAR
VERSION:2.0
PRODID:-//ChamberMaster//Event Calendar 2.0//EN
METHOD:PUBLISH
X-PUBLISHED-TTL:P3D
REFRESH-INTERVAL:P3D
CALSCALE:GREGORIAN
BEGIN:VEVENT
DTSTART:20101021T230000Z
DTEND:20101021T230000Z
X-MICROSOFT-CDO-ALLDAYEVENT:FALSE
SUMMARY:Memorial Service for Grieving Parents Who Lost A Baby- in Valley
DESCRIPTION:Valley Baptist Health System extends an invitation to a special Memorial Service to parents who are experiencing loss through miscarriage\, stillbirth or newborn death. The service will be ecumenical\, so members of all faith communities are welcome to attend.  For more information\, please call (956) 389-1194.
X-ALT-DESC;FMTTYPE=text/html:Valley Baptist Health System extends an invitation to a special Memorial Service to parents who are experiencing loss through miscarriage\, stillbirth or newborn death. The service will be ecumenical\, so members of all faith communities are welcome to attend.  For more information\, please call (956) 389-1194. \n\n
LOCATION:Valley Baptist Medical Ctr.- Harlingen\, in the Magnolia Grill located on the first floor of the East Tower entrance of the hospital.
UID:e.1828.2795
SEQUENCE:3
DTSTAMP:20260421T204032Z
URL:https://business.harlingen.com/events/details/memorial-service-for-grieving-parents-who-lost-a-baby-in-valley-10-21-2010-2795
END:VEVENT

END:VCALENDAR
