BEGIN:VCALENDAR
VERSION:2.0
PRODID:-//ChamberMaster//Event Calendar 2.0//EN
METHOD:PUBLISH
X-PUBLISHED-TTL:P3D
REFRESH-INTERVAL:P3D
CALSCALE:GREGORIAN
BEGIN:VEVENT
DTSTART;VALUE=DATE:20110114
DTEND;VALUE=DATE:20110116
TRANSP:TRANSPARENT
X-MICROSOFT-CDO-ALLDAYEVENT:TRUE
SUMMARY:Metamorphosis Retreat
DESCRIPTION:Leaving high school & heading out the door to college can & should be one of the best times in a young person's life. However it can turn into a struggle and a disappointment. The retreat is designed to help students & parents be better prepared to succeed in this adventure called college. You will be introduced to the world of college through 8 sessions dealing with topics that have proven to be challenges when starting college. To view retreat info. visit the site & get registered today vbmec.org/metamorphosis.htm for more information please call 956-367-2632.
X-ALT-DESC;FMTTYPE=text/html:Leaving high school & heading out the door to college can & should be one of the best times in a young person's life. However it can turn into a struggle and a disappointment. The retreat is designed to help students & parents be better prepared to succeed in this adventure called college. You will be introduced to the world of college through 8 sessions dealing with topics that have proven to be challenges when starting college. To view retreat info. visit the site & get registered today vbmec.org/metamorphosis.htm for more information please call 956-367-2632.\n \n
LOCATION:
UID:e.1828.2876
SEQUENCE:3
DTSTAMP:20260421T154508Z
URL:https://business.harlingen.com/events/details/metamorphosis-retreat-01-14-2011-2876
END:VEVENT

END:VCALENDAR
