BEGIN:VCALENDAR
VERSION:2.0
PRODID:-//ChamberMaster//Event Calendar 2.0//EN
METHOD:PUBLISH
X-PUBLISHED-TTL:P3D
REFRESH-INTERVAL:P3D
CALSCALE:GREGORIAN
BEGIN:VEVENT
DTSTART:20120524T140000Z
DTEND:20120524T140000Z
X-MICROSOFT-CDO-ALLDAYEVENT:FALSE
SUMMARY:Metropolitan Planning Organization
DESCRIPTION:Metropolitan Planning Organization:  Notice of a Special Called meeting of the Harlingen-San Benito Metropolitan Planning Organization Special Called Transportation Policy Committee.  Meeting will be held Thursday\, May 24\, 2012\, at 9:00 a.m. at the Harlingen Town Hall located at 118 E. Tyler\, Harlingen.
X-ALT-DESC;FMTTYPE=text/html:Metropolitan Planning Organization:  Notice of a Special Called meeting of the Harlingen-San Benito Metropolitan Planning Organization Special Called Transportation Policy Committee.  Meeting will be held Thursday\, May 24\, 2012\, at 9:00 a.m. at the Harlingen Town Hall located at 118 E. Tyler\, Harlingen.  
LOCATION:
UID:e.1828.3707
SEQUENCE:3
DTSTAMP:20260420T150417Z
URL:https://business.harlingen.com/events/details/metropolitan-planning-organization-05-24-2012-3707
END:VEVENT

END:VCALENDAR
