BEGIN:VCALENDAR
VERSION:2.0
PRODID:-//ChamberMaster//Event Calendar 2.0//EN
METHOD:PUBLISH
X-PUBLISHED-TTL:P3D
REFRESH-INTERVAL:P3D
CALSCALE:GREGORIAN
BEGIN:VEVENT
DTSTART:20111111T173000Z
DTEND:20111114T000000Z
X-MICROSOFT-CDO-ALLDAYEVENT:FALSE
SUMMARY:Mexican Artisan Craft Sale
DESCRIPTION:Craft sale is open from 11:30 a.m. - 6 p.m. on Friday and Saturday & 11:30 a.m. - 5 p.m. on Sunday. Admission is $1.00. Cash sales only (no credit cards).
X-ALT-DESC;FMTTYPE=text/html:Craft sale is open from 11:30 a.m. - 6 p.m. on Friday and Saturday & 11:30 a.m. - 5 p.m. on Sunday. Admission is $1.00. Cash sales only (no credit cards). \n
LOCATION:
UID:e.1828.3237
SEQUENCE:3
DTSTAMP:20260421T003352Z
URL:https://business.harlingen.com/events/details/mexican-artisan-craft-sale-11-11-2011-3237
END:VEVENT

END:VCALENDAR
