BEGIN:VCALENDAR
VERSION:2.0
PRODID:-//ChamberMaster//Event Calendar 2.0//EN
METHOD:PUBLISH
X-PUBLISHED-TTL:P3D
REFRESH-INTERVAL:P3D
CALSCALE:GREGORIAN
BEGIN:VEVENT
DTSTART:20110417T160000Z
DTEND:20110417T220000Z
X-MICROSOFT-CDO-ALLDAYEVENT:FALSE
SUMMARY:Mexican Artisan Show
DESCRIPTION:Unique Hand-Made Items For Sale * FREE Admission\nArtisans from 15 Mexican states will be visiting Harlingen showcasing the richness and diversity of their handicrafts. Come and enjoy the afternoon shopping\, listening to music\, the food and the artistry of these skilled artisans. Coffee from Chiapas\, "Pulque" bread\, "Amate" paper\, Rugs\, Oaxaca dresses\, and Talavera Ceramic!
X-ALT-DESC;FMTTYPE=text/html:Unique Hand-Made Items For Sale * FREE Admission\nArtisans from 15 Mexican states will be visiting Harlingen showcasing the richness and diversity of their handicrafts. Come and enjoy the afternoon shopping\, listening to music\, the food and the artistry of these skilled artisans. Coffee from Chiapas\, "Pulque" bread\, "Amate" paper\, Rugs\, Oaxaca dresses\, and Talavera Ceramic!  \n\n\n
LOCATION:
UID:e.1828.3025
SEQUENCE:3
DTSTAMP:20260421T111628Z
URL:https://business.harlingen.com/events/details/mexican-artisan-show-04-17-2011-3025
END:VEVENT

END:VCALENDAR
