BEGIN:VCALENDAR
VERSION:2.0
PRODID:-//ChamberMaster//Event Calendar 2.0//EN
METHOD:PUBLISH
X-PUBLISHED-TTL:P3D
REFRESH-INTERVAL:P3D
CALSCALE:GREGORIAN
BEGIN:VEVENT
DTSTART:20091114T170000Z
DTEND:20091114T170000Z
X-MICROSOFT-CDO-ALLDAYEVENT:FALSE
SUMMARY:Mi Primer Libro de Dichos Children's Workshop
DESCRIPTION:Children are invited to discover the world of dichos\, Mexican-American sayings common in South Texas and will be able to create their own. Guests will also enjoy the exhibit\, Dichos\, by Jennifer Rodriguez.
X-ALT-DESC;FMTTYPE=text/html:Children are invited to discover the world of dichos\, Mexican-American sayings common in South Texas and will be able to create their own. Guests will also enjoy the exhibit\, Dichos\, by Jennifer Rodriguez.
LOCATION:Southmost Heritage Center\, located inside the Urban Center at Gonzalez Park
UID:e.1828.2186
SEQUENCE:3
DTSTAMP:20260422T143211Z
URL:https://business.harlingen.com/events/details/mi-primer-libro-de-dichos-children-s-workshop-11-14-2009-2186
END:VEVENT

END:VCALENDAR
