BEGIN:VCALENDAR
VERSION:2.0
PRODID:-//ChamberMaster//Event Calendar 2.0//EN
METHOD:PUBLISH
X-PUBLISHED-TTL:P3D
REFRESH-INTERVAL:P3D
CALSCALE:GREGORIAN
BEGIN:VEVENT
DTSTART:20120725T230000Z
DTEND:20120726T010000Z
X-MICROSOFT-CDO-ALLDAYEVENT:FALSE
SUMMARY:Mid Summer Time Mixer for RGV & Beyond Arts & More
DESCRIPTION:Come meet Guy Mattei and Kirk Clark\, two or our front cover artists. Drinks\, Music and Lots of Fun!  Bring a friend!  For more information\, call (956) 793-1393.
X-ALT-DESC;FMTTYPE=text/html:Come meet Guy Mattei and Kirk Clark\, two or our front cover artists. Drinks\, Music and Lots of Fun!  Bring a friend!  For more information\, call (956) 793-1393. \n
LOCATION:
UID:e.1828.3904
SEQUENCE:3
DTSTAMP:20260420T120009Z
URL:https://business.harlingen.com/events/details/mid-summer-time-mixer-for-rgv-beyond-arts-more-07-25-2012-3904
END:VEVENT

END:VCALENDAR
