BEGIN:VCALENDAR
VERSION:2.0
PRODID:-//ChamberMaster//Event Calendar 2.0//EN
METHOD:PUBLISH
X-PUBLISHED-TTL:P3D
REFRESH-INTERVAL:P3D
CALSCALE:GREGORIAN
BEGIN:VEVENT
DTSTART:20101216T010000Z
DTEND:20101216T010000Z
X-MICROSOFT-CDO-ALLDAYEVENT:FALSE
SUMMARY:Mid Valley Christian School Christmas Program
DESCRIPTION:Mid Valley Christian School will be having their Christmas Program featuring students from three years old through 12th grade on Wednesday\, December 15th at the Spirit of Praise church located at the corner of Lewis Lane & Expressway 83 in Harlingen.  There will be puppets\, gymnastics\, Snowmen\, dancing Christmas Trees\, a live Nativity and lots of good old fashioned fun!  We hope everyone can come out and join us!
X-ALT-DESC;FMTTYPE=text/html:Mid Valley Christian School will be having their Christmas Program featuring students from three years old through 12th grade on Wednesday\, December 15th at the Spirit of Praise church located at the corner of Lewis Lane & Expressway 83 in Harlingen.  There will be puppets\, gymnastics\, Snowmen\, dancing Christmas Trees\, a live Nativity and lots of good old fashioned fun!  We hope everyone can come out and join us!
LOCATION:Corner of Lewis Lane & Expressway 83 in Harlingen
UID:e.1828.3246
SEQUENCE:3
DTSTAMP:20260421T171220Z
URL:https://business.harlingen.com/events/details/mid-valley-christian-school-christmas-program-12-15-2010-3246
END:VEVENT

END:VCALENDAR
