BEGIN:VCALENDAR
VERSION:2.0
PRODID:-//ChamberMaster//Event Calendar 2.0//EN
METHOD:PUBLISH
X-PUBLISHED-TTL:P3D
REFRESH-INTERVAL:P3D
CALSCALE:GREGORIAN
BEGIN:VEVENT
DTSTART:20121020T150000Z
DTEND:20121021T020000Z
X-MICROSOFT-CDO-ALLDAYEVENT:FALSE
SUMMARY:Migrant Welcoming Festival San Juan National Shrine
DESCRIPTION:Migrant Families with a Day of Celebration! Live Music\, Great Entertainment\, Kids Rides\, Lots of Food!
X-ALT-DESC;FMTTYPE=text/html:Migrant Families with a Day of Celebration! Live Music\, Great Entertainment\, Kids Rides\, Lots of Food!
LOCATION:
UID:e.1828.4003
SEQUENCE:3
DTSTAMP:20260420T101918Z
URL:https://business.harlingen.com/events/details/migrant-welcoming-festival-san-juan-national-shrine-10-20-2012-4003
END:VEVENT

END:VCALENDAR
