BEGIN:VCALENDAR
VERSION:2.0
PRODID:-//ChamberMaster//Event Calendar 2.0//EN
METHOD:PUBLISH
X-PUBLISHED-TTL:P3D
REFRESH-INTERVAL:P3D
CALSCALE:GREGORIAN
BEGIN:VEVENT
DTSTART;VALUE=DATE:20110305
DTEND;VALUE=DATE:20110306
TRANSP:TRANSPARENT
X-MICROSOFT-CDO-ALLDAYEVENT:TRUE
SUMMARY:Miracle Kids of South Texas
DESCRIPTION:Special Invitation\n\nFree Tennis Clinic & World Class Clinic & Wheel-Chair Exhibition featuring Jeff Sale\, Red Oak\, TX and \nHunter Groce San Antonio\, Tx. Paralympians. \n\nGreat Prizes given to all Miracle Kids! Loaner racquets will be provided! Meet the pros. Receive some tips. You and your family get free admission to all the matches that day. \n\nA portion of the proceeds from the Men's Futures Tournament will benefit the Miracle Kids of South Texas.\nAll disabled and special-needs children age 5-15 are invited to participate in a free 30-minute tennis clinic just for you. \nRegistration is requested. Please call Valley Baptist Foundation at 956-389-1614 or \nBorder Mobility at 956-683-1238.\n\nRegistration begins 8:30 AM\nEvent begins at 9:00 AM\nHarlingen Country Club
X-ALT-DESC;FMTTYPE=text/html:Special Invitation\n\nFree Tennis Clinic & World Class Clinic & Wheel-Chair Exhibition featuring Jeff Sale\, Red Oak\, TX and \nHunter Groce San Antonio\, Tx. Paralympians. \n\nGreat Prizes given to all Miracle Kids! Loaner racquets will be provided! Meet the pros. Receive some tips. You and your family get free admission to all the matches that day. \n\nA portion of the proceeds from the Men's Futures Tournament will benefit the Miracle Kids of South Texas.\nAll disabled and special-needs children age 5-15 are invited to participate in a free 30-minute tennis clinic just for you. \nRegistration is requested. Please call Valley Baptist Foundation at 956-389-1614 or \nBorder Mobility at 956-683-1238.\n\nRegistration begins 8:30 AM\nEvent begins at 9:00 AM\nHarlingen Country Club 
LOCATION:Country Club is located just 1 mile north of Expressway 83 on Stuart Place Road.
UID:e.1828.2985
SEQUENCE:3
DTSTAMP:20260421T124745Z
URL:https://business.harlingen.com/events/details/miracle-kids-of-south-texas-03-05-2011-2985
END:VEVENT

END:VCALENDAR
