BEGIN:VCALENDAR
VERSION:2.0
PRODID:-//ChamberMaster//Event Calendar 2.0//EN
METHOD:PUBLISH
X-PUBLISHED-TTL:P3D
REFRESH-INTERVAL:P3D
CALSCALE:GREGORIAN
BEGIN:VEVENT
DTSTART;VALUE=DATE:20120222
DTEND;VALUE=DATE:20120223
TRANSP:TRANSPARENT
X-MICROSOFT-CDO-ALLDAYEVENT:TRUE
SUMMARY:Mission Annual Winter Texas Fiesta
DESCRIPTION:Free admission\, free food\, music\, door prizes\, and exhibits (while supplies last). Must collect your meal ticket at the Greater Mission Chamber of Commerce\, 202 W. Tom Landry\, Mission\, TX. 78572 beginning Monday\, February 20th @ 8:30am! Live performances by: Bob & Sheila Everhart\, Precious Jade\, Red Johnson\, Rich Bellert\, Wade and Teresa Landry and The Punches Family. For more information please contact\, the Greater Mission Chamber of Commerce\, or via e-mail: mperez@missionchamber.com or www.missionchamber.com
X-ALT-DESC;FMTTYPE=text/html:Free admission\, free food\, music\, door prizes\, and exhibits (while supplies last). Must collect your meal ticket at the Greater Mission Chamber of Commerce\, 202 W. Tom Landry\, Mission\, TX. 78572 beginning Monday\, February 20th @ 8:30am! Live performances by: Bob & Sheila Everhart\, Precious Jade\, Red Johnson\, Rich Bellert\, Wade and Teresa Landry and The Punches Family. For more information please contact\, the Greater Mission Chamber of Commerce\, or via e-mail: mperez@missionchamber.com or www.missionchamber.com
LOCATION:Across from H.E.B. on Conway Ave & Business 83
UID:e.1828.3462
SEQUENCE:3
DTSTAMP:20260420T200412Z
URL:https://business.harlingen.com/events/details/mission-annual-winter-texas-fiesta-02-22-2012-3462
END:VEVENT

END:VCALENDAR
