BEGIN:VCALENDAR
VERSION:2.0
PRODID:-//ChamberMaster//Event Calendar 2.0//EN
METHOD:PUBLISH
X-PUBLISHED-TTL:P3D
REFRESH-INTERVAL:P3D
CALSCALE:GREGORIAN
BEGIN:VEVENT
DTSTART:20130209T010000Z
DTEND:20130209T010000Z
X-MICROSOFT-CDO-ALLDAYEVENT:FALSE
SUMMARY:Mitos\, Conjuros Y Alabanzas
DESCRIPTION:We are honored to invite you to the exhibit Mitos\, Conjuros Y Alabanzas by Adelia Sayeg!\n\nAdelia Sayeg is a Mexican Artist. From her early childhood\, she showed a special sensibility for plastic arts: she participated in several paining\, engraving\, photograph\, textile\, sculpture and ceramic workshops in Mexico and abroad. \nShe has exhibited her works individually and in group shows in Mexico\, United States\, Europe and she will do it in Asia in the near future. www.adeliasayeg.com
X-ALT-DESC;FMTTYPE=text/html:We are honored to invite you to the exhibit Mitos\, Conjuros Y Alabanzas by Adelia Sayeg!\n\nAdelia Sayeg is a Mexican Artist. From her early childhood\, she showed a special sensibility for plastic arts: she participated in several paining\, engraving\, photograph\, textile\, sculpture and ceramic workshops in Mexico and abroad. \nShe has exhibited her works individually and in group shows in Mexico\, United States\, Europe and she will do it in Asia in the near future. www.adeliasayeg.com\n
LOCATION:
UID:e.1828.4230
SEQUENCE:3
DTSTAMP:20260422T085249Z
URL:https://business.harlingen.com/events/details/mitos-conjuros-y-alabanzas-02-08-2013-4230
END:VEVENT

END:VCALENDAR
