BEGIN:VCALENDAR
VERSION:2.0
PRODID:-//ChamberMaster//Event Calendar 2.0//EN
METHOD:PUBLISH
X-PUBLISHED-TTL:P3D
REFRESH-INTERVAL:P3D
CALSCALE:GREGORIAN
BEGIN:VEVENT
DTSTART:20111109T160000Z
DTEND:20111109T160000Z
X-MICROSOFT-CDO-ALLDAYEVENT:FALSE
SUMMARY:MMA Museum & Visitors Center Volunteer Auxiliary
DESCRIPTION:Discover the value of one\; the power of many! Become a MMA Museum & Visitors Center VOLUNTEER.\nOrientation Coffee 10AM- Wednesday\, November 9th. Contact Gloria Boling 1-800-365-6006/ 956-421-9234 E-mail: visitorcenter@mma-tx.org/ website: www.mma-tx.org
X-ALT-DESC;FMTTYPE=text/html:Discover the value of one\; the power of many! Become a MMA Museum & Visitors Center VOLUNTEER.\nOrientation Coffee 10AM- Wednesday\, November 9th. Contact Gloria Boling 1-800-365-6006/ 956-421-9234 E-mail: visitorcenter@mma-tx.org/ website: www.mma-tx.org
LOCATION:Marine Military Academy's Museum & Visitors Center (right next to Valley International Airport)
UID:e.1828.3122
SEQUENCE:3
DTSTAMP:20260421T021456Z
URL:https://business.harlingen.com/events/details/mma-museum-visitors-center-volunteer-auxiliary-11-09-2011-3122
END:VEVENT

END:VCALENDAR
