BEGIN:VCALENDAR
VERSION:2.0
PRODID:-//ChamberMaster//Event Calendar 2.0//EN
METHOD:PUBLISH
X-PUBLISHED-TTL:P3D
REFRESH-INTERVAL:P3D
CALSCALE:GREGORIAN
BEGIN:VEVENT
DTSTART:20091030T210000Z
DTEND:20091030T210000Z
X-MICROSOFT-CDO-ALLDAYEVENT:FALSE
SUMMARY:MMA's 44th Birthday Ball Parade
DESCRIPTION:Mark your calendars for MMA's 44th Birthday Ball Parade\, in conjunction with the U.S. Marine Corps 234th Anniversary. The parade will be at the Marine Military Academy Parade Grounds directly adjacent to the Iwo Jima Monument\, located at 320 Iwo Jima Boulevard in Harlingen\, next to Valley International Airport. FREE event\, open to the general public. Bleacher seating is limited and lawn chairs are welcome. For further information call Deb Wieland at 421-9235.
X-ALT-DESC;FMTTYPE=text/html:Mark your calendars for MMA's 44th Birthday Ball Parade\, in conjunction with the U.S. Marine Corps 234th Anniversary. The parade will be at the Marine Military Academy Parade Grounds directly adjacent to the Iwo Jima Monument\, located at 320 Iwo Jima Boulevard in Harlingen\, next to Valley International Airport. FREE event\, open to the general public. Bleacher seating is limited and lawn chairs are welcome. For further information call Deb Wieland at 421-9235.
LOCATION:
UID:e.1828.2158
SEQUENCE:3
DTSTAMP:20260422T111925Z
URL:https://business.harlingen.com/events/details/mma-s-44th-birthday-ball-parade-10-30-2009-2158
END:VEVENT

END:VCALENDAR
