BEGIN:VCALENDAR
VERSION:2.0
PRODID:-//ChamberMaster//Event Calendar 2.0//EN
METHOD:PUBLISH
X-PUBLISHED-TTL:P3D
REFRESH-INTERVAL:P3D
CALSCALE:GREGORIAN
BEGIN:VEVENT
DTSTART:20090822T153000Z
DTEND:20090822T170000Z
X-MICROSOFT-CDO-ALLDAYEVENT:FALSE
SUMMARY:Mobile Dairy Farm Experience at the Children's Museum of Brownsville
DESCRIPTION:Farmer Randy and his cow\, Bessie\, are coming to the Children's Museum of Brownsville on August 22\, 2009 from 10:30a.m. to 12 Noon to teach kids about milk and where it comes from.  The Mobile Dairy Farm is an innovative program that brings the dairy experience directly to children.\n\nThis children's workshop features a traveling milking parlor\, a live cow and a presentation by a real farmer.  A trained instructor will demonstrate how to milk a cow\, describe how milk goes from the farm to the consumer\, and then answer questions from the audience.  Young audience members will share a unique experience that includes math\, science and health\, all presented outdoors in an entertaining fashion.  It's bound to be ''moooooocho'' fun!\n\nThe Mobile Dairy Farm Program is part of ''On the Farm'' Month at the Children's Museum of Brownsville.  For more information regarding this event or other workshops please visit www.cmofbrownsville.com or call (956) 548-9300.
X-ALT-DESC;FMTTYPE=text/html:Farmer Randy and his cow\, Bessie\, are coming to the Children's Museum of Brownsville on August 22\, 2009 from 10:30a.m. to 12 Noon to teach kids about milk and where it comes from.  The Mobile Dairy Farm is an innovative program that brings the dairy experience directly to children.\n\nThis children's workshop features a traveling milking parlor\, a live cow and a presentation by a real farmer.  A trained instructor will demonstrate how to milk a cow\, describe how milk goes from the farm to the consumer\, and then answer questions from the audience.  Young audience members will share a unique experience that includes math\, science and health\, all presented outdoors in an entertaining fashion.  It's bound to be ''moooooocho'' fun!\n\nThe Mobile Dairy Farm Program is part of ''On the Farm'' Month at the Children's Museum of Brownsville.  For more information regarding this event or other workshops please visit www.cmofbrownsville.com or call (956) 548-9300.\n
LOCATION:
UID:e.1828.2019
SEQUENCE:3
DTSTAMP:20260422T095528Z
URL:https://business.harlingen.com/events/details/mobile-dairy-farm-experience-at-the-children-s-museum-of-brownsville-08-22-2009-2019
END:VEVENT

END:VCALENDAR
