BEGIN:VCALENDAR
VERSION:2.0
PRODID:-//ChamberMaster//Event Calendar 2.0//EN
METHOD:PUBLISH
X-PUBLISHED-TTL:P3D
REFRESH-INTERVAL:P3D
CALSCALE:GREGORIAN
BEGIN:VEVENT
DTSTART:20120404T140000Z
DTEND:20120404T160000Z
X-MICROSOFT-CDO-ALLDAYEVENT:FALSE
SUMMARY:Mobile Office Technology & Trends for Small Business Cloud Computing - Data Recovery - Mobile Apps
DESCRIPTION:Free Session!  Limited seating available. Everyone is talking about "the cloud" but what does it mean?  Why should I "back up" my files?  How can my business benefit from mobile apps?   \n\nUT Pan Am Small Business Development Council\, TagleRock Technologies and the Chamber have partnered on this FREE seminar. RSVP is REQUIRED. Call the Chamber at (956) 423-5440 to reserve your spot!.
X-ALT-DESC;FMTTYPE=text/html:Free Session!  Limited seating available. Everyone is talking about "the cloud" but what does it mean?  Why should I "back up" my files?  How can my business benefit from mobile apps?   \n\nUT Pan Am Small Business Development Council\, TagleRock Technologies and the Chamber have partnered on this FREE seminar. RSVP is REQUIRED. Call the Chamber at (956) 423-5440 to reserve your spot!.    \n
LOCATION:
UID:e.1828.3598
SEQUENCE:3
DTSTAMP:20260420T181705Z
URL:https://business.harlingen.com/events/details/mobile-office-technology-trends-for-small-business-cloud-computing-data-recovery-mobile-apps-04-04-2012-3598
END:VEVENT

END:VCALENDAR
