BEGIN:VCALENDAR
VERSION:2.0
PRODID:-//ChamberMaster//Event Calendar 2.0//EN
METHOD:PUBLISH
X-PUBLISHED-TTL:P3D
REFRESH-INTERVAL:P3D
CALSCALE:GREGORIAN
BEGIN:VEVENT
DTSTART:20120523T140000Z
DTEND:20120523T160000Z
X-MICROSOFT-CDO-ALLDAYEVENT:FALSE
SUMMARY:Mobile Office Technology & Trends for Small Businesses Seminar
DESCRIPTION:Mobile Office Technology & Trends for Small Businesses Cloud Computing - Data Recovery - Mobile Apps \nOpen to the public!  RSVP required at (956) 423-5440. Everyone is talking about "the cloud"\, but what does that mean?  Why should I "back up" my files?  How can my business benefit from mobile apps?  Join us for a fact packed seminar!  It's one you won't want to miss!
X-ALT-DESC;FMTTYPE=text/html:Mobile Office Technology & Trends for Small Businesses Cloud Computing - Data Recovery - Mobile Apps \nOpen to the public!  RSVP required at (956) 423-5440. Everyone is talking about "the cloud"\, but what does that mean?  Why should I "back up" my files?  How can my business benefit from mobile apps?  Join us for a fact packed seminar!  It's one you won't want to miss! \n
LOCATION:
UID:e.1828.3696
SEQUENCE:3
DTSTAMP:20260420T150550Z
URL:https://business.harlingen.com/events/details/mobile-office-technology-trends-for-small-businesses-seminar-05-23-2012-3696
END:VEVENT

END:VCALENDAR
